BEGIN:VCALENDAR
VERSION:2.0
PRODID:Events from www.apparelnews.net
X-WR-CALNAME:Events from www.apparelnews.net
X-WR-CALDESC:Events from www.apparelnews.net
BEGIN:VEVENT
SUMMARY:Lineapelle Milan
URL;VALUE=URI:http://www.apparelnews.net/events/2024/feb/22/lineapelle-161f36d6-7016c1b6-6a305d-97a21e92/?et=23811
DTSTART:20240222
DESCRIPTION;ENCODING=QUOTED-PRINTABLE:www.lineapelle-fair.it\n\n+39 02 880 7711 A34

END:VEVENT
END:VCALENDAR
