BEGIN:VCALENDAR
VERSION:2.0
PRODID:Events from www.apparelnews.net
X-WR-CALNAME:Events from www.apparelnews.net
X-WR-CALDESC:Events from www.apparelnews.net
BEGIN:VEVENT
SUMMARY:EuroCIS
URL;VALUE=URI:http://www.apparelnews.net/events/2024/feb/29/eurocis-c48b06e6-31e9ea72/?et=22871
DTSTART:20240229
DESCRIPTION;ENCODING=QUOTED-PRINTABLE:https://www.eurocis.com/\n\nTrade fair for retail technology

END:VEVENT
END:VCALENDAR
