BEGIN:VCALENDAR
VERSION:2.0
PRODID:Events from www.apparelnews.net
X-WR-CALNAME:Events from www.apparelnews.net
X-WR-CALDESC:Events from www.apparelnews.net
BEGIN:VEVENT
SUMMARY:Heimtextil Frankfurt
URL;VALUE=URI:http://www.apparelnews.net/events/2024/jan/09/heimtextil-b33b0e52-b9749662-18fa72-ac4edc78/?et=22959
DTSTART:20240109
DESCRIPTION;ENCODING=QUOTED-PRINTABLE:http://heimtextil.messefrankfurt.com

END:VEVENT
END:VCALENDAR
