BEGIN:VCALENDAR
VERSION:2.0
PRODID:Events from www.apparelnews.net
X-WR-CALNAME:Events from www.apparelnews.net
X-WR-CALDESC:Events from www.apparelnews.net
BEGIN:VEVENT
SUMMARY:CAST Preview Women
URL;VALUE=URI:http://www.apparelnews.net/events/2024/jan/15/cast-preview-women-fad6664e/?et=24170
DTSTART:20240115
DESCRIPTION;ENCODING=QUOTED-PRINTABLE:https://cast.nl/\n\nhttps://cast.nl/events/preview-women-edition-ii\n\nBoutique fashion trade show

END:VEVENT
END:VCALENDAR
