BEGIN:VCALENDAR
VERSION:2.0
PRODID:Events from www.apparelnews.net
X-WR-CALNAME:Events from www.apparelnews.net
X-WR-CALDESC:Events from www.apparelnews.net
BEGIN:VEVENT
SUMMARY:Dallas Men's Show
URL;VALUE=URI:http://www.apparelnews.net/events/2024/jan/29/dallas-mens-show-24379fca-df912364--82e870b2/?et=23305
DTSTART:20240129
DESCRIPTION;ENCODING=QUOTED-PRINTABLE:http://dallasmarketcenter.com

END:VEVENT
END:VCALENDAR
