BEGIN:VCALENDAR
VERSION:2.0
PRODID:Events from www.apparelnews.net
X-WR-CALNAME:Events from www.apparelnews.net
X-WR-CALDESC:Events from www.apparelnews.net
BEGIN:VEVENT
SUMMARY:Jumble Tokyo
URL;VALUE=URI:http://www.apparelnews.net/events/2024/mar/08/jumbo-73c6a30e-0d4395f6-e2dcca88-eb-53dd3a76/?et=24032
DTSTART:20240308
DESCRIPTION;ENCODING=QUOTED-PRINTABLE:http://jumble-tokyo.com/information-en/

END:VEVENT
END:VCALENDAR
