BEGIN:VCALENDAR
VERSION:2.0
PRODID:Events from www.apparelnews.net
X-WR-CALNAME:Events from www.apparelnews.net
X-WR-CALDESC:Events from www.apparelnews.net
BEGIN:VEVENT
SUMMARY:Garment Technology Expo
URL;VALUE=URI:http://www.apparelnews.net/events/2024/mar/11/garment-technology-expo-new-dehli-e-48bacd36/?et=24008
DTSTART:20240311
DESCRIPTION;ENCODING=QUOTED-PRINTABLE:http://www.garmenttechnologyexpo.com/

END:VEVENT
END:VCALENDAR
