BEGIN:VCALENDAR
VERSION:2.0
PRODID:Events from www.apparelnews.net
X-WR-CALNAME:Events from www.apparelnews.net
X-WR-CALDESC:Events from www.apparelnews.net
BEGIN:VEVENT
SUMMARY:APLF Leather
URL;VALUE=URI:http://www.apparelnews.net/events/2024/mar/19/fashion-access-fashion-accessories--e94fb1ca/?et=23616
DTSTART:20240319
DESCRIPTION;ENCODING=QUOTED-PRINTABLE:https://www.aplf.com/&nbsp;

END:VEVENT
END:VCALENDAR
