BEGIN:VCALENDAR
VERSION:2.0
PRODID:Events from www.apparelnews.net
X-WR-CALNAME:Events from www.apparelnews.net
X-WR-CALDESC:Events from www.apparelnews.net
BEGIN:VEVENT
SUMMARY:Materials+
URL;VALUE=URI:http://www.apparelnews.net/events/2024/mar/21/aplf-leather-materials-hong-kong-8e-a20e2fa2/?et=23621
DTSTART:20240321
DESCRIPTION;ENCODING=QUOTED-PRINTABLE:www.aplf.com

END:VEVENT
END:VCALENDAR
