BEGIN:VCALENDAR
VERSION:2.0
PRODID:Events from www.apparelnews.net
X-WR-CALNAME:Events from www.apparelnews.net
X-WR-CALDESC:Events from www.apparelnews.net
BEGIN:VEVENT
SUMMARY:Supreme Celebration
URL;VALUE=URI:http://www.apparelnews.net/events/2024/may/16/supreme-celebration-e61ed574-dbd9f6-fc7e8b88/?et=23829
DTSTART:20240516
DESCRIPTION;ENCODING=QUOTED-PRINTABLE:http://www.munichfashioncompany.com/en/trade-fairs/

END:VEVENT
END:VCALENDAR
