BEGIN:VCALENDAR
VERSION:2.0
PRODID:Events from www.apparelnews.net
X-WR-CALNAME:Events from www.apparelnews.net
X-WR-CALDESC:Events from www.apparelnews.net
BEGIN:VEVENT
SUMMARY:Intex South Asia
URL;VALUE=URI:http://www.apparelnews.net/events/2024/may/30/indo-dyechem-97dd135a-65cb1f26-d80b-b658711e/?et=23529
DTSTART:20240530
DESCRIPTION;ENCODING=QUOTED-PRINTABLE:https://bd.intexsouthasia.com/

END:VEVENT
END:VCALENDAR
