BEGIN:VCALENDAR
VERSION:2.0
PRODID:Events from www.apparelnews.net
X-WR-CALNAME:Events from www.apparelnews.net
X-WR-CALDESC:Events from www.apparelnews.net
BEGIN:VEVENT
SUMMARY:Dubai Fashion Week
URL;VALUE=URI:http://www.apparelnews.net/events/2024/oct/15/dubai-fashion-days-a12bad0a-181ae6c-b2574a12/?et=23849
DTSTART:20241015
DESCRIPTION;ENCODING=QUOTED-PRINTABLE:https://dubaifashionweek.org/

END:VEVENT
END:VCALENDAR
