BEGIN:VCALENDAR
VERSION:2.0
PRODID:Events from www.apparelnews.net
X-WR-CALNAME:Events from www.apparelnews.net
X-WR-CALDESC:Events from www.apparelnews.net
BEGIN:VEVENT
SUMMARY:Maison&Objet Paris
URL;VALUE=URI:http://www.apparelnews.net/events/2024/sep/09/maisonobjet-paris-5bc59548-6ceb4516/?et=24178
DTSTART:20240909
DESCRIPTION;ENCODING=QUOTED-PRINTABLE:https://www.maison-objet.com/en/paris

END:VEVENT
END:VCALENDAR
