BEGIN:VCALENDAR
VERSION:2.0
PRODID:Events from www.apparelnews.net
X-WR-CALNAME:Events from www.apparelnews.net
X-WR-CALDESC:Events from www.apparelnews.net
BEGIN:VEVENT
SUMMARY:Chicago Collective Men's
URL;VALUE=URI:http://www.apparelnews.net/events/2025/aug/05/chicago-collective-ffc95632-8775d50-4f948b32/?et=25608
DTSTART:20250805
DESCRIPTION;ENCODING=QUOTED-PRINTABLE:https://www.chicagocollective.com/

END:VEVENT
END:VCALENDAR
