BEGIN:VCALENDAR
VERSION:2.0
PRODID:Events from www.apparelnews.net
X-WR-CALNAME:Events from www.apparelnews.net
X-WR-CALDESC:Events from www.apparelnews.net
BEGIN:VEVENT
SUMMARY:Istanbul Fashion Connection
URL;VALUE=URI:http://www.apparelnews.net/events/2025/aug/22/istanbul-fashion-connection-50a3202-eb475d2e/?et=25616
DTSTART:20250822
DESCRIPTION;ENCODING=QUOTED-PRINTABLE:https://www.ifco.com.tr/fair

END:VEVENT
END:VCALENDAR
