BEGIN:VCALENDAR
VERSION:2.0
PRODID:Events from www.apparelnews.net
X-WR-CALNAME:Events from www.apparelnews.net
X-WR-CALDESC:Events from www.apparelnews.net
BEGIN:VEVENT
SUMMARY:Michigan Women's Wear Market
URL;VALUE=URI:http://www.apparelnews.net/events/2025/feb/02/michigan-womens-wear-market-tba-bdd-3996688c/?et=25213
DTSTART:20250202
DESCRIPTION;ENCODING=QUOTED-PRINTABLE:http://www.silverliningshows.com/Metro-Michigan Show

END:VEVENT
END:VCALENDAR
