BEGIN:VCALENDAR
VERSION:2.0
PRODID:Events from www.apparelnews.net
X-WR-CALNAME:Events from www.apparelnews.net
X-WR-CALDESC:Events from www.apparelnews.net
BEGIN:VEVENT
SUMMARY:Supreme Body & Beach
URL;VALUE=URI:http://www.apparelnews.net/events/2025/feb/04/supreme-body-beach-0fb57cec/?et=24788
DTSTART:20250204
DESCRIPTION;ENCODING=QUOTED-PRINTABLE:https://thesupremegroup.de/trade-shows/bodybeach/

END:VEVENT
END:VCALENDAR
