BEGIN:VCALENDAR
VERSION:2.0
PRODID:Events from www.apparelnews.net
X-WR-CALNAME:Events from www.apparelnews.net
X-WR-CALDESC:Events from www.apparelnews.net
BEGIN:VEVENT
SUMMARY:Mercedes-Benz Fashion Week Madrid
URL;VALUE=URI:http://www.apparelnews.net/events/2025/feb/19/mercedes-benz-fashion-week-madrid-1-544cebb0/?et=25093
DTSTART:20250219
DESCRIPTION;ENCODING=QUOTED-PRINTABLE:https://www.ifema.es/mbfw-madridwww.ifema.es

END:VEVENT
END:VCALENDAR
