BEGIN:VCALENDAR
VERSION:2.0
PRODID:Events from www.apparelnews.net
X-WR-CALNAME:Events from www.apparelnews.net
X-WR-CALDESC:Events from www.apparelnews.net
BEGIN:VEVENT
SUMMARY:Milano Micam
URL;VALUE=URI:http://www.apparelnews.net/events/2025/feb/23/micam-milano-b50f58f2-719bf688-7431-1d2ab9fc/?et=24963
DTSTART:20250223
DESCRIPTION;ENCODING=QUOTED-PRINTABLE:https://themicam.com/www.fieramilano.itInternational footwear fair

END:VEVENT
END:VCALENDAR
