BEGIN:VCALENDAR
VERSION:2.0
PRODID:Events from www.apparelnews.net
X-WR-CALNAME:Events from www.apparelnews.net
X-WR-CALDESC:Events from www.apparelnews.net
BEGIN:VEVENT
SUMMARY:Milano Fashion & Jewels
URL;VALUE=URI:http://www.apparelnews.net/events/2025/feb/25/chibi-mart-9d20343e-9-328662ba-bc14-ef0dac2e/?et=24832
DTSTART:20250225
DESCRIPTION;ENCODING=QUOTED-PRINTABLE:https://www.homifashionjewels.com/fashion accessories

END:VEVENT
END:VCALENDAR
