BEGIN:VCALENDAR
VERSION:2.0
PRODID:Events from www.apparelnews.net
X-WR-CALNAME:Events from www.apparelnews.net
X-WR-CALDESC:Events from www.apparelnews.net
BEGIN:VEVENT
SUMMARY:Interfilière New York
URL;VALUE=URI:http://www.apparelnews.net/events/2025/feb/27/interfiliere-tba-4ccce38e-edb2bbc2--6781cd58/?et=24636
DTSTART:20250227
DESCRIPTION;ENCODING=QUOTED-PRINTABLE:https://www.interfiliere-newyork.com/

END:VEVENT
END:VCALENDAR
