BEGIN:VCALENDAR
VERSION:2.0
PRODID:Events from www.apparelnews.net
X-WR-CALNAME:Events from www.apparelnews.net
X-WR-CALDESC:Events from www.apparelnews.net
BEGIN:VEVENT
SUMMARY:Preview Kids
URL;VALUE=URI:http://www.apparelnews.net/events/2025/jan/13/preview-kids-fashion-trade-show-d8400516/?et=25373
DTSTART:20250113
DESCRIPTION;ENCODING=QUOTED-PRINTABLE:https://www.cast.nl/en/previewFashion Trade Show

END:VEVENT
END:VCALENDAR
