BEGIN:VCALENDAR
VERSION:2.0
PRODID:Events from www.apparelnews.net
X-WR-CALNAME:Events from www.apparelnews.net
X-WR-CALDESC:Events from www.apparelnews.net
BEGIN:VEVENT
SUMMARY:WESA International Western/English Apparel & Equipment Market
URL;VALUE=URI:http://www.apparelnews.net/events/2025/jan/25/dallas-western-market-54d49fb0-7469-d0ba6d0c/?et=24884
DTSTART:20250125
DESCRIPTION;ENCODING=QUOTED-PRINTABLE:https://wesatradeshow.com/

END:VEVENT
END:VCALENDAR
