BEGIN:VCALENDAR
VERSION:2.0
PRODID:Events from www.apparelnews.net
X-WR-CALNAME:Events from www.apparelnews.net
X-WR-CALDESC:Events from www.apparelnews.net
BEGIN:VEVENT
SUMMARY:Pitti Immagine Filati
URL;VALUE=URI:http://www.apparelnews.net/events/2025/jan/30/pitti-immagine-filati-9cd59668-4720-901bae96/?et=24761
DTSTART:20250130
DESCRIPTION;ENCODING=QUOTED-PRINTABLE:www.pittimmagine.com

END:VEVENT
END:VCALENDAR
