BEGIN:VCALENDAR
VERSION:2.0
PRODID:Events from www.apparelnews.net
X-WR-CALNAME:Events from www.apparelnews.net
X-WR-CALDESC:Events from www.apparelnews.net
BEGIN:VEVENT
SUMMARY:Supreme Kids
URL;VALUE=URI:http://www.apparelnews.net/events/2025/jul/12/supreme-kids-f1784d68-02029e66/?et=25574
DTSTART:20250712
DESCRIPTION;ENCODING=QUOTED-PRINTABLE:https://thesupremegroup.de/trade-shows/kids/

END:VEVENT
END:VCALENDAR
