BEGIN:VCALENDAR
VERSION:2.0
PRODID:Events from www.apparelnews.net
X-WR-CALNAME:Events from www.apparelnews.net
X-WR-CALDESC:Events from www.apparelnews.net
BEGIN:VEVENT
SUMMARY:Michigan Women's Wear Market
URL;VALUE=URI:http://www.apparelnews.net/events/2025/jun/08/michigan-womens-wear-market-tba-bdd-5e854186/?et=25217
DTSTART:20250608
DESCRIPTION;ENCODING=QUOTED-PRINTABLE:http://www.silverliningshows.com/Metro-Michigan Show

END:VEVENT
END:VCALENDAR
