BEGIN:VCALENDAR
VERSION:2.0
PRODID:Events from www.apparelnews.net
X-WR-CALNAME:Events from www.apparelnews.net
X-WR-CALDESC:Events from www.apparelnews.net
BEGIN:VEVENT
SUMMARY:Dallas Apparel & Accessories Market
URL;VALUE=URI:http://www.apparelnews.net/events/2025/jun/10/dallas-apparel-accessories-market-t-f57ef6c2/?et=24863
DTSTART:20250610
DESCRIPTION;ENCODING=QUOTED-PRINTABLE:http://dallasmarketcenter.com

END:VEVENT
END:VCALENDAR
