BEGIN:VCALENDAR
VERSION:2.0
PRODID:Events from www.apparelnews.net
X-WR-CALNAME:Events from www.apparelnews.net
X-WR-CALDESC:Events from www.apparelnews.net
BEGIN:VEVENT
SUMMARY:Spinexpo Shanghai
URL;VALUE=URI:http://www.apparelnews.net/events/2025/mar/12/spinexpo-shanghai-9ddf98e6-4bf56454-9f87fb94/?et=26410
DTSTART:20250312
DESCRIPTION;ENCODING=QUOTED-PRINTABLE:http://www.spinexpo.com

END:VEVENT
END:VCALENDAR
