BEGIN:VCALENDAR
VERSION:2.0
PRODID:Events from www.apparelnews.net
X-WR-CALNAME:Events from www.apparelnews.net
X-WR-CALDESC:Events from www.apparelnews.net
BEGIN:VEVENT
SUMMARY:Dallas Kidsworld Market
URL;VALUE=URI:http://www.apparelnews.net/events/2025/mar/25/kidsworld-87018f46-6fc77ea0-0d632b6-6728676e/?et=24889
DTSTART:20250325
DESCRIPTION;ENCODING=QUOTED-PRINTABLE:http://dallasmarketcenter.com

END:VEVENT
END:VCALENDAR
