BEGIN:VCALENDAR
VERSION:2.0
PRODID:Events from www.apparelnews.net
X-WR-CALNAME:Events from www.apparelnews.net
X-WR-CALDESC:Events from www.apparelnews.net
BEGIN:VEVENT
SUMMARY:Shoptalk Spring
URL;VALUE=URI:http://www.apparelnews.net/events/2025/mar/27/shoptalk-222e2d78-093c9750-8e92ac5e-90daea22/?et=23144
DTSTART:20250327
DESCRIPTION;ENCODING=QUOTED-PRINTABLE:https://shoptalk.com/\n\nConference for large retailers and branded manufacturers\, startups\, tech companies\, investors\, media and analysts.

END:VEVENT
END:VCALENDAR
