BEGIN:VCALENDAR
VERSION:2.0
PRODID:Events from www.apparelnews.net
X-WR-CALNAME:Events from www.apparelnews.net
X-WR-CALDESC:Events from www.apparelnews.net
BEGIN:VEVENT
SUMMARY:Dallas Apparel & Accessories Market
URL;VALUE=URI:http://www.apparelnews.net/events/2025/mar/28/dallas-apparel-accessories-market-t-ed4aff18/?et=24862
DTSTART:20250328
DESCRIPTION;ENCODING=QUOTED-PRINTABLE:http://dallasmarketcenter.com

END:VEVENT
END:VCALENDAR
