BEGIN:VCALENDAR
VERSION:2.0
PRODID:Events from www.apparelnews.net
X-WR-CALNAME:Events from www.apparelnews.net
X-WR-CALDESC:Events from www.apparelnews.net
BEGIN:VEVENT
SUMMARY:Fashion Week San Diego
URL;VALUE=URI:http://www.apparelnews.net/events/2025/oct/04/fashion-week-san-diego-69dfade8-53271020/?et=25877
DTSTART:20251004
DESCRIPTION;ENCODING=QUOTED-PRINTABLE:https://fashionweeksd.com/

END:VEVENT
END:VCALENDAR
