BEGIN:VCALENDAR
VERSION:2.0
PRODID:Events from www.apparelnews.net
X-WR-CALNAME:Events from www.apparelnews.net
X-WR-CALDESC:Events from www.apparelnews.net
BEGIN:VEVENT
SUMMARY:Dubai Fashion Week
URL;VALUE=URI:http://www.apparelnews.net/events/2025/sep/06/dubai-fashion-days-a12bad0a-181ae6c-44fda810/?et=25836
DTSTART:20250906
DESCRIPTION;ENCODING=QUOTED-PRINTABLE:https://dubaifashionweek.org/

END:VEVENT
END:VCALENDAR
