BEGIN:VCALENDAR
VERSION:2.0
PRODID:Events from www.apparelnews.net
X-WR-CALNAME:Events from www.apparelnews.net
X-WR-CALDESC:Events from www.apparelnews.net
BEGIN:VEVENT
SUMMARY:Première Vision Paris
URL;VALUE=URI:http://www.apparelnews.net/events/2025/sep/17/premiere-vision-paris-167c32b8-0a2c-1380ff1e/?et=25467
DTSTART:20250917
DESCRIPTION;ENCODING=QUOTED-PRINTABLE:www.premierevision.com

END:VEVENT
END:VCALENDAR
