BEGIN:VCALENDAR
VERSION:2.0
PRODID:Events from www.apparelnews.net
X-WR-CALNAME:Events from www.apparelnews.net
X-WR-CALDESC:Events from www.apparelnews.net
BEGIN:VEVENT
SUMMARY:Feel the Yarn Tokyo
URL;VALUE=URI:http://www.apparelnews.net/events/2026/apr/15/feel-the-yarn-new-york-19aa608e-614-85a9a17a/?et=27119
DTSTART:20260415
DESCRIPTION;ENCODING=QUOTED-PRINTABLE:https://feeltheyarn.it/trade-shows/

END:VEVENT
END:VCALENDAR
