BEGIN:VCALENDAR
VERSION:2.0
PRODID:Events from www.apparelnews.net
X-WR-CALNAME:Events from www.apparelnews.net
X-WR-CALDESC:Events from www.apparelnews.net
BEGIN:VEVENT
SUMMARY:AAFA American Image Awards
URL;VALUE=URI:http://www.apparelnews.net/events/2026/apr/21/aafa-executive-summit-3b161dc6-c2ee-970802b4/?et=27567
DTSTART:20260421
DESCRIPTION;ENCODING=QUOTED-PRINTABLE:https://www.aafaglobal.org

END:VEVENT
END:VCALENDAR
