BEGIN:VCALENDAR
VERSION:2.0
PRODID:Events from www.apparelnews.net
X-WR-CALNAME:Events from www.apparelnews.net
X-WR-CALDESC:Events from www.apparelnews.net
BEGIN:VEVENT
SUMMARY:Texprocess Frankfurt
URL;VALUE=URI:http://www.apparelnews.net/events/2026/apr/24/texprocess-americas-33ffc322-baeebb-7aec57f0/?et=26962
DTSTART:20260424
DESCRIPTION;ENCODING=QUOTED-PRINTABLE:https://texprocess.messefrankfurt.com/frankfurt/en.html

END:VEVENT
END:VCALENDAR
