BEGIN:VCALENDAR
VERSION:2.0
PRODID:Events from www.apparelnews.net
X-WR-CALNAME:Events from www.apparelnews.net
X-WR-CALDESC:Events from www.apparelnews.net
BEGIN:VEVENT
SUMMARY:Michigan Shoe Market
URL;VALUE=URI:http://www.apparelnews.net/events/2026/aug/01/michigan-shoe-market-c1254634-448c7-f7306626/?et=27276
DTSTART:20260801
DESCRIPTION;ENCODING=QUOTED-PRINTABLE:www.michiganshoeshow.com

END:VEVENT
END:VCALENDAR
