BEGIN:VCALENDAR
VERSION:2.0
PRODID:Events from www.apparelnews.net
X-WR-CALNAME:Events from www.apparelnews.net
X-WR-CALDESC:Events from www.apparelnews.net
BEGIN:VEVENT
SUMMARY:Curve New York
URL;VALUE=URI:http://www.apparelnews.net/events/2026/aug/04/curvenewyork-46e97716-7ae1e610-5612-2e895efc/?et=27362
DTSTART:20260804
DESCRIPTION;ENCODING=QUOTED-PRINTABLE:www.curve-newyork.comwww.curve-connect.com(212) 993-8585\n\ninfo@curvexpo.com

END:VEVENT
END:VCALENDAR
