BEGIN:VCALENDAR
VERSION:2.0
PRODID:Events from www.apparelnews.net
X-WR-CALNAME:Events from www.apparelnews.net
X-WR-CALDESC:Events from www.apparelnews.net
BEGIN:VEVENT
SUMMARY:Copenhagen Fashion Week
URL;VALUE=URI:http://www.apparelnews.net/events/2026/aug/07/copenhagen-fashion-week-54979f8c-30-f1aac280/?et=27514
DTSTART:20260807
DESCRIPTION;ENCODING=QUOTED-PRINTABLE:https://copenhagenfashionweek.com/

END:VEVENT
END:VCALENDAR
