BEGIN:VCALENDAR
VERSION:2.0
PRODID:Events from www.apparelnews.net
X-WR-CALNAME:Events from www.apparelnews.net
X-WR-CALDESC:Events from www.apparelnews.net
BEGIN:VEVENT
SUMMARY:Boston Shoe Travelers — Northeast Expo
URL;VALUE=URI:http://www.apparelnews.net/events/2026/aug/09/boston-shoe-travelers-northeast-exp-db76c742/?et=27594
DTSTART:20260809
DESCRIPTION;ENCODING=QUOTED-PRINTABLE:https://bostonshoetravelers.org/

END:VEVENT
END:VCALENDAR
