BEGIN:VCALENDAR
VERSION:2.0
PRODID:Events from www.apparelnews.net
X-WR-CALNAME:Events from www.apparelnews.net
X-WR-CALDESC:Events from www.apparelnews.net
BEGIN:VEVENT
SUMMARY:Baltimore Fashion Week
URL;VALUE=URI:http://www.apparelnews.net/events/2026/aug/10/baltimore-fashion-week-199e149a/?et=27630
DTSTART:20260810
DESCRIPTION;ENCODING=QUOTED-PRINTABLE:https://www.baltimorefw.com/
Baltimore
END:VEVENT
END:VCALENDAR
