BEGIN:VCALENDAR
VERSION:2.0
PRODID:Events from www.apparelnews.net
X-WR-CALNAME:Events from www.apparelnews.net
X-WR-CALDESC:Events from www.apparelnews.net
BEGIN:VEVENT
SUMMARY:Supreme Women & Men Munich
URL;VALUE=URI:http://www.apparelnews.net/events/2026/aug/11/supreme-women-men-munich-926595be-9-3029f98e/?et=27052
DTSTART:20260811
DESCRIPTION;ENCODING=QUOTED-PRINTABLE:https://thesupremegroup.de/trade-shows/womenmen-muenchen/

END:VEVENT
END:VCALENDAR
