BEGIN:VCALENDAR
VERSION:2.0
PRODID:Events from www.apparelnews.net
X-WR-CALNAME:Events from www.apparelnews.net
X-WR-CALDESC:Events from www.apparelnews.net
BEGIN:VEVENT
SUMMARY:Graphics Pro Expo Long Beach
URL;VALUE=URI:http://www.apparelnews.net/events/2026/aug/14/the-nbm-show-long-beach-260a6038-d9-8390281c/?et=26730
DTSTART:20260814
DESCRIPTION;ENCODING=QUOTED-PRINTABLE:https://graphics-pro-expo.comFormerly The NBM Show

END:VEVENT
END:VCALENDAR
