BEGIN:VCALENDAR
VERSION:2.0
PRODID:Events from www.apparelnews.net
X-WR-CALNAME:Events from www.apparelnews.net
X-WR-CALDESC:Events from www.apparelnews.net
BEGIN:VEVENT
SUMMARY:Preview In Seoul\, Seoul International Textile Fair
URL;VALUE=URI:http://www.apparelnews.net/events/2026/aug/19/preview-in-seoul-8127705e-5b0528b0/?et=27315
DTSTART:20260819
DESCRIPTION;ENCODING=QUOTED-PRINTABLE:https://www.previewinseoul.com/fairDash.do

END:VEVENT
END:VCALENDAR
