BEGIN:VCALENDAR
VERSION:2.0
PRODID:Events from www.apparelnews.net
X-WR-CALNAME:Events from www.apparelnews.net
X-WR-CALDESC:Events from www.apparelnews.net
BEGIN:VEVENT
SUMMARY:New Zealand Fashion Week Kahuria
URL;VALUE=URI:http://www.apparelnews.net/events/2026/aug/20/new-zealand-fashion-week-kahuria-ea-c8dad9a6/?et=27324
DTSTART:20260820
DESCRIPTION;ENCODING=QUOTED-PRINTABLE:https://www.nzfashionweek.com/

END:VEVENT
END:VCALENDAR
