BEGIN:VCALENDAR
VERSION:2.0
PRODID:Events from www.apparelnews.net
X-WR-CALNAME:Events from www.apparelnews.net
X-WR-CALDESC:Events from www.apparelnews.net
BEGIN:VEVENT
SUMMARY:ASD Market Week\, SourceDirect at ASD
URL;VALUE=URI:http://www.apparelnews.net/events/2026/aug/25/asd-market-week-fb5e6a3a-1e969022-3-cd44ca16/?et=27284
DTSTART:20260825
DESCRIPTION;ENCODING=QUOTED-PRINTABLE:https://asdonline.com/about/dates-hours/

END:VEVENT
END:VCALENDAR
