BEGIN:VCALENDAR
VERSION:2.0
PRODID:Events from www.apparelnews.net
X-WR-CALNAME:Events from www.apparelnews.net
X-WR-CALDESC:Events from www.apparelnews.net
BEGIN:VEVENT
SUMMARY:Fashion & Accessories Happening
URL;VALUE=URI:http://www.apparelnews.net/events/2026/aug/30/fashion-accessories-happening/?et=27635
DTSTART:20260830
DESCRIPTION;ENCODING=QUOTED-PRINTABLE:https://trademart.be/nl/events/2026/fashion-accessories-happening-augustus-2026

END:VEVENT
END:VCALENDAR
