BEGIN:VCALENDAR
VERSION:2.0
PRODID:Events from www.apparelnews.net
X-WR-CALNAME:Events from www.apparelnews.net
X-WR-CALDESC:Events from www.apparelnews.net
BEGIN:VEVENT
SUMMARY:Supreme Body & Beach
URL;VALUE=URI:http://www.apparelnews.net/events/2026/feb/03/supreme-body-beach-0fb57cec-84b3fcca/?et=26574
DTSTART:20260203
DESCRIPTION;ENCODING=QUOTED-PRINTABLE:https://thesupremegroup.de/trade-shows/bodybeach/

END:VEVENT
END:VCALENDAR
