BEGIN:VCALENDAR
VERSION:2.0
PRODID:Events from www.apparelnews.net
X-WR-CALNAME:Events from www.apparelnews.net
X-WR-CALDESC:Events from www.apparelnews.net
BEGIN:VEVENT
SUMMARY:Première Vision Paris
URL;VALUE=URI:http://www.apparelnews.net/events/2026/feb/04/premiere-vision-paris-167c32b8-0a2c-16d912dc/?et=26262
DTSTART:20260204
DESCRIPTION;ENCODING=QUOTED-PRINTABLE:www.premierevision.com

END:VEVENT
END:VCALENDAR
